BEGIN:VCALENDAR
VERSION:2.0
PRODID:-//MovePeople//MoveCMS//DE
BEGIN:VEVENT
UID:2128
DTSTAMP:20250313T000000Z
DTSTART:20250313T200000
DTEND:20250313T224500
LOCATION:X-TRA
DESCRIPTION:
SUMMARY:Zaho de Sagazan (FR)
PRIORITY:3
END:VEVENT
END:VCALENDAR