BEGIN:VCALENDAR
VERSION:2.0
PRODID:-//MovePeople//MoveCMS//DE
BEGIN:VEVENT
UID:2222
DTSTAMP:20250928T000000Z
DTSTART:20250928T190000
DTEND:20250928T220000
LOCATION:X-TRA
DESCRIPTION:
SUMMARY:THE CAT EMPIRE (AUS)
PRIORITY:3
END:VEVENT
END:VCALENDAR