BEGIN:VCALENDAR
VERSION:2.0
PRODID:-//MovePeople//MoveCMS//DE
BEGIN:VEVENT
UID:2380
DTSTAMP:20260507T000000Z
DTSTART:20260507T200000
LOCATION:X-TRA
DESCRIPTION:
SUMMARY:SOFIA ISELLA (US)
PRIORITY:3
END:VEVENT
END:VCALENDAR