BEGIN:VCALENDAR
VERSION:2.0
PRODID:-//MovePeople//MoveCMS//DE
BEGIN:VEVENT
UID:2395
DTSTAMP:20260430T000000Z
DTSTART:20260430T200000
LOCATION:X-TRA
DESCRIPTION:
SUMMARY:Miguel (US)
PRIORITY:3
END:VEVENT
END:VCALENDAR