BEGIN:VCALENDAR
VERSION:2.0
PRODID:-//MovePeople//MoveCMS//DE
BEGIN:VEVENT
UID:2165
DTSTAMP:20250518T000000Z
DTSTART:20250518T174500
DTEND:20250518T223000
LOCATION:X-TRA
DESCRIPTION:
SUMMARY:Reconstruction Tour 2025
PRIORITY:3
END:VEVENT
END:VCALENDAR