BEGIN:VCALENDAR
VERSION:2.0
PRODID:-//MovePeople//MoveCMS//DE
BEGIN:VEVENT
UID:2463
DTSTAMP:20260508T000000Z
DTSTART:20260508T200000
LOCATION:X-TRA Musikcafe
DESCRIPTION:
SUMMARY:Barney Artist (UK) im Musikcafe
PRIORITY:3
END:VEVENT
END:VCALENDAR